BEGIN:VCALENDAR
VERSION:2.0
PRODID:spatie/icalendar-generator
DESCRIPTION:Events from Beacon Community Church
X-WR-CALDESC:Events from Beacon Community Church
REFRESH-INTERVAL;VALUE=DURATION:PT1440M
X-PUBLISHED-TTL:PT1440M
BEGIN:VTIMEZONE
TZID:Etc/GMT+0
BEGIN:STANDARD
DTSTART:20250705T191500Z
TZOFFSETFROM:+0000
TZOFFSETTO:+0000
END:STANDARD
END:VTIMEZONE
BEGIN:VTIMEZONE
TZID:UTC
BEGIN:STANDARD
DTSTART:20250726T120841Z
TZOFFSETFROM:+0000
TZOFFSETTO:+0000
END:STANDARD
END:VTIMEZONE
BEGIN:VEVENT
UID:4657-102
DTSTAMP:20260422T120841Z
SUMMARY:Real Lives with Jamie Jones Buchanan
LOCATION:
ORGANIZER;CN=Beaconcommunitychurch:MAILTO:kanorton7@yahoo.co.uk
DTSTART;TZID=Etc/GMT+0:20260401T191500
DTEND;TZID=Etc/GMT+0:20260401T213000
X-ALT-DESC;FMTTYPE=TEXT/HTML:Leeds Rhino legend Jamie Jnes-Buchanan tells h
 is story. All welcome\, Refreshments Served.
CATEGORIES:Special Activities
URL;VALUE=URI:https://beaconcommunitychurch.org.uk/our-services?mc_id=4657
METHOD:PUBLISH
END:VEVENT
BEGIN:VEVENT
UID:4656-103
DTSTAMP:20260422T120841Z
SUMMARY:Film Night: `Risen`
LOCATION:
ORGANIZER;CN=Beaconcommunitychurch:MAILTO:kanorton7@yahoo.co.uk
DTSTART;TZID=Etc/GMT+0:20260402T190000
DTEND;TZID=Etc/GMT+0:20260402T213000
X-ALT-DESC;FMTTYPE=TEXT/HTML:Join us for the Easter Week presentation of Ri
 sen
CATEGORIES:Special Activities
URL;VALUE=URI:https://beaconcommunitychurch.org.uk/our-services?mc_id=4656
METHOD:PUBLISH
END:VEVENT
BEGIN:VEVENT
UID:4654-55
DTSTAMP:20260422T120841Z
SUMMARY:Good Friday Service
LOCATION:
ORGANIZER;CN=Beaconcommunitychurch:MAILTO:kanorton7@yahoo.co.uk
DTSTART;TZID=Etc/GMT+0:20260403T190000
DTEND;TZID=Etc/GMT+0:20260403T200000
X-ALT-DESC;FMTTYPE=TEXT/HTML:Good Friday Service is back in church on stric
 t appointment only basis. Social distancing and other Covid-19 guidelines 
 apply. Alternatively you can continue to worship via Facebook Live or Zoom
  on our WhatsApp Group. Replays can be viewed on our website
CATEGORIES:Sunday Worship
URL;VALUE=URI:https://beaconcommunitychurch.org.uk/our-services?mc_id=4654
METHOD:PUBLISH
END:VEVENT
BEGIN:VEVENT
UID:4653-56
DTSTAMP:20260422T120841Z
SUMMARY:Easter Sunday `He Is Risen`
LOCATION:
ORGANIZER;CN=Beaconcommunitychurch:MAILTO:kanorton7@yahoo.co.uk
DTSTART;TZID=Etc/GMT+0:20260405T104500
DTEND;TZID=Etc/GMT+0:20260405T114500
X-ALT-DESC;FMTTYPE=TEXT/HTML:
CATEGORIES:Sunday Worship
URL;VALUE=URI:https://beaconcommunitychurch.org.uk/our-services?mc_id=4653
METHOD:PUBLISH
END:VEVENT
BEGIN:VEVENT
UID:291-3
DTSTAMP:20260422T120841Z
SUMMARY:Communion
LOCATION:
ORGANIZER;CN=Beaconcommunitychurch:MAILTO:kanorton7@yahoo.co.uk
RRULE:FREQ=MONTHLY;BYDAY=1SU;COUNT=100
DTSTART;TZID=Etc/GMT+0:20260405T114500
DTEND;TZID=Etc/GMT+0:20260405T120000
X-ALT-DESC;FMTTYPE=TEXT/HTML:Takes place at the end of Sunday Worship and l
 asts 15 minutes
CATEGORIES:Sunday Worship
URL;VALUE=URI:https://beaconcommunitychurch.org.uk/our-services?mc_id=291
METHOD:PUBLISH
END:VEVENT
BEGIN:VEVENT
UID:4560-100
DTSTAMP:20260422T120841Z
SUMMARY:Prayer Meeting
LOCATION:
ORGANIZER;CN=Beaconcommunitychurch:MAILTO:kanorton7@yahoo.co.uk
RRULE:FREQ=WEEKLY;UNTIL=20270202T000000Z
DTSTART;TZID=Etc/GMT+0:20260407T121500
DTEND;TZID=Etc/GMT+0:20260407T130000
X-ALT-DESC;FMTTYPE=TEXT/HTML:Join us for our weekly Prayer Meeting led by P
 astor Tony.
CATEGORIES:Prayer Meetings
URL;VALUE=URI:https://beaconcommunitychurch.org.uk/our-services?mc_id=4560
METHOD:PUBLISH
END:VEVENT
BEGIN:VEVENT
UID:4639-7
DTSTAMP:20260422T120841Z
SUMMARY:Pilates
LOCATION:
ORGANIZER;CN=Beaconcommunitychurch:MAILTO:kanorton7@yahoo.co.uk
RRULE:FREQ=WEEKLY;COUNT=100
DTSTART;TZID=Etc/GMT+0:20260407T183000
DTEND;TZID=Etc/GMT+0:20260407T193000
X-ALT-DESC;FMTTYPE=TEXT/HTML:Pilates exercise class led by a professional t
 eacher. Duration 60 mins. Cost £5.00 per session.
CATEGORIES:Organised externally events
URL;VALUE=URI:https://beaconcommunitychurch.org.uk/our-services?mc_id=4639
METHOD:PUBLISH
END:VEVENT
BEGIN:VEVENT
UID:4658-101
DTSTAMP:20260422T120841Z
SUMMARY:Midweek Fellowship Group
LOCATION:
ORGANIZER;CN=Beaconcommunitychurch:MAILTO:kanorton7@yahoo.co.uk
DTSTART;TZID=Etc/GMT+0:20260408T191500
DTEND;TZID=Etc/GMT+0:20260408T204500
X-ALT-DESC;FMTTYPE=TEXT/HTML:Join us for our Midweek Fellowship Group. 2nd 
 and 4th Wednesday each month.
CATEGORIES:Prayer Meetings
URL;VALUE=URI:https://beaconcommunitychurch.org.uk/our-services?mc_id=4658
METHOD:PUBLISH
END:VEVENT
BEGIN:VEVENT
UID:2632-47
DTSTAMP:20260422T120841Z
SUMMARY:Wellbeing Cafe
LOCATION:
ORGANIZER;CN=Beaconcommunitychurch:MAILTO:kanorton7@yahoo.co.uk
RRULE:FREQ=MONTHLY;BYDAY=2FR;UNTIL=20280714T000000Z
DTSTART;TZID=Etc/GMT+0:20260410T133000
DTEND;TZID=Etc/GMT+0:20260410T153000
X-ALT-DESC;FMTTYPE=TEXT/HTML:Afternoon tea\, cake and entertainment for any
  older person who may be feeling isolated or depressed. Anyone who is beco
 ming a little forgetful and their spouse/carers would benefit from coming 
 to the cafe. Transport can be arranged. Cost £3. For more information ple
 ase contact Kathryn Halford on 07592 011977 or 01274 816748 or email qcpin
 fo@gmail.com.
CATEGORIES:Organised externally events
URL;VALUE=URI:https://beaconcommunitychurch.org.uk/our-services?mc_id=2632
METHOD:PUBLISH
END:VEVENT
BEGIN:VEVENT
UID:4650-50
DTSTAMP:20260422T120841Z
SUMMARY:Sunday Worship
LOCATION:
ORGANIZER;CN=Beaconcommunitychurch:MAILTO:kanorton7@yahoo.co.uk
DTSTART;TZID=Etc/GMT+0:20260412T104500
DTEND;TZID=Etc/GMT+0:20260412T114500
X-ALT-DESC;FMTTYPE=TEXT/HTML:Worship includes a mixture of contemporary and
  traditional hymns\, music\, prayers and a sermon. Services normally last 
 60 mins and refreshments are served at the end. Once a month we have a Gue
 st Preacher. Alternatively you can continue to worship at home via Faceboo
 k Live. Replays can be viewed on our website
CATEGORIES:Sunday Worship
URL;VALUE=URI:https://beaconcommunitychurch.org.uk/our-services?mc_id=4650
METHOD:PUBLISH
END:VEVENT
BEGIN:VEVENT
UID:4312-84
DTSTAMP:20260422T120841Z
SUMMARY:Friendship Group with Chairobics
LOCATION:
ORGANIZER;CN=Beaconcommunitychurch:MAILTO:kanorton7@yahoo.co.uk
RRULE:FREQ=WEEKLY;UNTIL=20260427T000000Z
DTSTART;TZID=Etc/GMT+0:20260413T140000
DTEND;TZID=Etc/GMT+0:20260413T153000
X-ALT-DESC;FMTTYPE=TEXT/HTML:Gentle seated exercises to a range of music fo
 llowe4d by tea and a chat
CATEGORIES:Regular Activities
URL;VALUE=URI:https://beaconcommunitychurch.org.uk/our-services?mc_id=4312
METHOD:PUBLISH
END:VEVENT
BEGIN:VEVENT
UID:4644-90
DTSTAMP:20260422T120841Z
SUMMARY:Parent &amp;amp\; Toddler Group
LOCATION:
ORGANIZER;CN=Beaconcommunitychurch:MAILTO:kanorton7@yahoo.co.uk
RRULE:FREQ=WEEKLY;UNTIL=20251217T000000Z
DTSTART;TZID=Etc/GMT+0:20260415T090000
DTEND;TZID=Etc/GMT+0:20260415T110000
X-ALT-DESC;FMTTYPE=TEXT/HTML:A fun\, friendly space for little ones ( aged 
 0-4) and their grown -ups! Come and enjoy: Playtime with toys and activiti
 es\; storytime &amp;amp\; songs\; snacks and refreshments\; friendly chat for 
 parents Cost: £1 per family Contact Penelope 07488 228783 Also incorporat
 ing new neurodiverse drop-in group &amp;nbsp\; &amp;nbsp\; &amp;nbsp\; &amp;nbsp\; &amp;nbsp\;
  &amp;nbsp\;
CATEGORIES:Regular Activities
URL;VALUE=URI:https://beaconcommunitychurch.org.uk/our-services?mc_id=4644
METHOD:PUBLISH
END:VEVENT
BEGIN:VEVENT
UID:4643-81
DTSTAMP:20260422T120841Z
SUMMARY:Men`s Group
LOCATION:
ORGANIZER;CN=Beaconcommunitychurch:MAILTO:kanorton7@yahoo.co.uk
RRULE:FREQ=MONTHLY;BYDAY=3WE;UNTIL=20251119T000000Z
DTSTART;TZID=Etc/GMT+0:20260415T190000
DTEND;TZID=Etc/GMT+0:20260415T210000
X-ALT-DESC;FMTTYPE=TEXT/HTML:Fellowship\, conversation\, activities and gam
 es for men.
CATEGORIES:Regular Activities
URL;VALUE=URI:https://beaconcommunitychurch.org.uk/our-services?mc_id=4643
METHOD:PUBLISH
END:VEVENT
BEGIN:VEVENT
UID:4651-50
DTSTAMP:20260422T120841Z
SUMMARY:Sunday Worship
LOCATION:
ORGANIZER;CN=Beaconcommunitychurch:MAILTO:kanorton7@yahoo.co.uk
DTSTART;TZID=Etc/GMT+0:20260419T104500
DTEND;TZID=Etc/GMT+0:20260419T114500
X-ALT-DESC;FMTTYPE=TEXT/HTML:Worship includes a mixture of contemporary and
  traditional hymns\, music\, prayers and a sermon. Services normally last 
 60 mins and refreshments are served at the end. Once a month we have a Gue
 st Preacher. Alternatively you can continue to worship at home via Faceboo
 k Live. Replays can be viewed on our website
CATEGORIES:Sunday Worship
URL;VALUE=URI:https://beaconcommunitychurch.org.uk/our-services?mc_id=4651
METHOD:PUBLISH
END:VEVENT
BEGIN:VEVENT
UID:4659-101
DTSTAMP:20260422T120841Z
SUMMARY:Midweek Fellowship Group
LOCATION:
ORGANIZER;CN=Beaconcommunitychurch:MAILTO:kanorton7@yahoo.co.uk
DTSTART;TZID=Etc/GMT+0:20260422T191500
DTEND;TZID=Etc/GMT+0:20260422T204500
X-ALT-DESC;FMTTYPE=TEXT/HTML:Join us for our Midweek Fellowship Group. 2nd 
 and 4th Wednesday each month.
CATEGORIES:Prayer Meetings
URL;VALUE=URI:https://beaconcommunitychurch.org.uk/our-services?mc_id=4659
METHOD:PUBLISH
END:VEVENT
BEGIN:VEVENT
UID:4648-11
DTSTAMP:20260422T120841Z
SUMMARY:Community Choir
LOCATION:
ORGANIZER;CN=Beaconcommunitychurch:MAILTO:kanorton7@yahoo.co.uk
RRULE:FREQ=WEEKLY;COUNT=100
DTSTART;TZID=Etc/GMT+0:20260423T191500
DTEND;TZID=Etc/GMT+0:20260423T204500
X-ALT-DESC;FMTTYPE=TEXT/HTML:Come along to enjoy a good sing across a range
  of different types of music. Duration 90 mins. Term time only. Cost £4.0
 0 per adult. For more information contact Ann Goodwin on 01274 605149.
CATEGORIES:Regular Activities
URL;VALUE=URI:https://beaconcommunitychurch.org.uk/our-services?mc_id=4648
METHOD:PUBLISH
END:VEVENT
BEGIN:VEVENT
UID:4636-98
DTSTAMP:20260422T120841Z
SUMMARY:Messy Church
LOCATION:
ORGANIZER;CN=Beaconcommunitychurch:MAILTO:kanorton7@yahoo.co.uk
DTSTART;TZID=Etc/GMT+0:20260425T110000
DTEND;TZID=Etc/GMT+0:20260425T140000
X-ALT-DESC;FMTTYPE=TEXT/HTML:Join us every 4th Saturday for crafts\, games\
 , stories\, food and fun. Free of Charge
CATEGORIES:Family Day Events
URL;VALUE=URI:https://beaconcommunitychurch.org.uk/our-services?mc_id=4636
METHOD:PUBLISH
END:VEVENT
BEGIN:VEVENT
UID:4652-50
DTSTAMP:20260422T120841Z
SUMMARY:Sunday Worship
LOCATION:
ORGANIZER;CN=Beaconcommunitychurch:MAILTO:kanorton7@yahoo.co.uk
DTSTART;TZID=Etc/GMT+0:20260426T104500
DTEND;TZID=Etc/GMT+0:20260426T114500
X-ALT-DESC;FMTTYPE=TEXT/HTML:Worship includes a mixture of contemporary and
  traditional hymns\, music\, prayers and a sermon. Services normally last 
 60 mins and refreshments are served at the end. Once a month we have a Gue
 st Preacher. Alternatively you can continue to worship at home via Faceboo
 k Live. Replays can be viewed on our website
CATEGORIES:Sunday Worship
URL;VALUE=URI:https://beaconcommunitychurch.org.uk/our-services?mc_id=4652
METHOD:PUBLISH
END:VEVENT
END:VCALENDAR